BEGIN:VCALENDAR
VERSION:2.0
PRODID:-//Explore Rockland - ECPv6.15.17//NONSGML v1.0//EN
CALSCALE:GREGORIAN
METHOD:PUBLISH
X-ORIGINAL-URL:https://explorerocklandny.com
X-WR-CALDESC:Events for Explore Rockland
REFRESH-INTERVAL;VALUE=DURATION:PT1H
X-Robots-Tag:noindex
X-PUBLISHED-TTL:PT1H
BEGIN:VTIMEZONE
TZID:America/New_York
BEGIN:DAYLIGHT
TZOFFSETFROM:-0500
TZOFFSETTO:-0400
TZNAME:EDT
DTSTART:20250309T070000
END:DAYLIGHT
BEGIN:STANDARD
TZOFFSETFROM:-0400
TZOFFSETTO:-0500
TZNAME:EST
DTSTART:20251102T060000
END:STANDARD
BEGIN:DAYLIGHT
TZOFFSETFROM:-0500
TZOFFSETTO:-0400
TZNAME:EDT
DTSTART:20260308T070000
END:DAYLIGHT
BEGIN:STANDARD
TZOFFSETFROM:-0400
TZOFFSETTO:-0500
TZNAME:EST
DTSTART:20261101T060000
END:STANDARD
BEGIN:DAYLIGHT
TZOFFSETFROM:-0500
TZOFFSETTO:-0400
TZNAME:EDT
DTSTART:20270314T070000
END:DAYLIGHT
BEGIN:STANDARD
TZOFFSETFROM:-0400
TZOFFSETTO:-0500
TZNAME:EST
DTSTART:20271107T060000
END:STANDARD
END:VTIMEZONE
BEGIN:VEVENT
DTSTART;TZID=America/New_York:20260514T180000
DTEND;TZID=America/New_York:20260514T200000
DTSTAMP:20260422T051651
CREATED:20260410T200144Z
LAST-MODIFIED:20260410T200559Z
UID:10001670-1778781600-1778788800@explorerocklandny.com
SUMMARY:Small Business Grants: From Search to Application
DESCRIPTION:For Rockland County residents and businesses only.\n\nMost small business owners skip grants because the process feels overwhelming or out of reach. This workshop breaks it down from finding the right opportunities to writing an application that actually gets read. \n\n\n\nJoin us for an impactful session 3 of the Access to Capital Series for Rockland County Entrepreneurs.\n\n\n\nWorkshop Content:\n\n\n\nHow to know if you qualify before you spend time applying\nWhat funders are really looking for — and how to show it\nThe documents you need to have ready\nLocal grant opportunities\nHow to use AI to strengthen your application\n\nClick HERE to register. \n\nRockland County Economic Development offers free\, in-person workshop series. Each three-session sprint covers a different pillar of business growth\, offered at convenient locations across the county. Whether you are looking to secure funding\, strengthen your marketing\, or build a more resilient operation\, each series gives you the tools and guidance to take the next step.\n\n\nReasonable accommodations for persons with disabilities will be made if requested at least two weeks in advance.  Contact the Women’s Enterprise Development Center Inc. at 914.948.6098. \n\n\n 
URL:https://explorerocklandny.com/event/small-business-grants-from-search-to-application/
LOCATION:Valley Cottage Library\, 110 NY-303\, Valley Cottage\, New York\, 10989
CATEGORIES:Economic Development
ATTACH;FMTTYPE=image/png:https://explorerocklandny.com/wp-content/uploads/2026/04/Screenshot-2026-04-10-155727.png
ORGANIZER;CN="Women's Enterprise Development Center (WEDC)":MAILTO:info@wedcbiz.org
END:VEVENT
END:VCALENDAR