BEGIN:VCALENDAR
VERSION:2.0
PRODID:-//Explore Rockland - ECPv6.15.17//NONSGML v1.0//EN
CALSCALE:GREGORIAN
METHOD:PUBLISH
X-WR-CALNAME:Explore Rockland
X-ORIGINAL-URL:https://explorerocklandny.com
X-WR-CALDESC:Events for Explore Rockland
REFRESH-INTERVAL;VALUE=DURATION:PT1H
X-Robots-Tag:noindex
X-PUBLISHED-TTL:PT1H
BEGIN:VTIMEZONE
TZID:America/New_York
BEGIN:DAYLIGHT
TZOFFSETFROM:-0500
TZOFFSETTO:-0400
TZNAME:EDT
DTSTART:20240310T070000
END:DAYLIGHT
BEGIN:STANDARD
TZOFFSETFROM:-0400
TZOFFSETTO:-0500
TZNAME:EST
DTSTART:20241103T060000
END:STANDARD
BEGIN:DAYLIGHT
TZOFFSETFROM:-0500
TZOFFSETTO:-0400
TZNAME:EDT
DTSTART:20250309T070000
END:DAYLIGHT
BEGIN:STANDARD
TZOFFSETFROM:-0400
TZOFFSETTO:-0500
TZNAME:EST
DTSTART:20251102T060000
END:STANDARD
BEGIN:DAYLIGHT
TZOFFSETFROM:-0500
TZOFFSETTO:-0400
TZNAME:EDT
DTSTART:20260308T070000
END:DAYLIGHT
BEGIN:STANDARD
TZOFFSETFROM:-0400
TZOFFSETTO:-0500
TZNAME:EST
DTSTART:20261101T060000
END:STANDARD
END:VTIMEZONE
BEGIN:VEVENT
DTSTART;TZID=America/New_York:20251218T113000
DTEND;TZID=America/New_York:20251218T130000
DTSTAMP:20260425T175048
CREATED:20251203T164234Z
LAST-MODIFIED:20251203T175823Z
UID:10001277-1766057400-1766062800@explorerocklandny.com
SUMMARY:Rockland Business Association Exclusive Networking Luncheon
DESCRIPTION:Join the Rockland Business Association (RBA) for a unique networking experience! \nWhat to Expect: \n\nA unique and exclusive networking luncheon.\nEnjoy a delicious buffet.\nConnect with local business professionals.\n\nLarry Weiss\, the leader of Atlantic (Tomorrow’s Office)\, will share insights and facilitate an engaging atmosphere for attendees to build meaningful connections. \nWhy Attend? \n\nMeet other professionals in a relaxed\, engaging environment.\nBuild relationships that could lead to exciting opportunities\, partnerships\, or mentorship.\nIndulge in Sangria’s renowned cuisine while growing your business connections.\n\nClick HERE for more information to reserve your spot.
URL:https://explorerocklandny.com/event/rockland-business-association-exclusive-networking-luncheon/
LOCATION:Sangria’s\, 97 S Route 303\, Congers\, NY\, 10920\, United States
CATEGORIES:Economic Development
ATTACH;FMTTYPE=image/jpeg:https://explorerocklandny.com/wp-content/uploads/2025/12/pexels-henri-mathieu-8349427-scaled.jpg
ORGANIZER;CN="Rockland Business Association":MAILTO:rba@rocklandbusiness.org
END:VEVENT
END:VCALENDAR