BEGIN:VCALENDAR
VERSION:2.0
PRODID:-//Explore Rockland - ECPv6.15.17//NONSGML v1.0//EN
CALSCALE:GREGORIAN
METHOD:PUBLISH
X-WR-CALNAME:Explore Rockland
X-ORIGINAL-URL:https://explorerocklandny.com
X-WR-CALDESC:Events for Explore Rockland
REFRESH-INTERVAL;VALUE=DURATION:PT1H
X-Robots-Tag:noindex
X-PUBLISHED-TTL:PT1H
BEGIN:VTIMEZONE
TZID:America/New_York
BEGIN:DAYLIGHT
TZOFFSETFROM:-0500
TZOFFSETTO:-0400
TZNAME:EDT
DTSTART:20240310T070000
END:DAYLIGHT
BEGIN:STANDARD
TZOFFSETFROM:-0400
TZOFFSETTO:-0500
TZNAME:EST
DTSTART:20241103T060000
END:STANDARD
BEGIN:DAYLIGHT
TZOFFSETFROM:-0500
TZOFFSETTO:-0400
TZNAME:EDT
DTSTART:20250309T070000
END:DAYLIGHT
BEGIN:STANDARD
TZOFFSETFROM:-0400
TZOFFSETTO:-0500
TZNAME:EST
DTSTART:20251102T060000
END:STANDARD
BEGIN:DAYLIGHT
TZOFFSETFROM:-0500
TZOFFSETTO:-0400
TZNAME:EDT
DTSTART:20260308T070000
END:DAYLIGHT
BEGIN:STANDARD
TZOFFSETFROM:-0400
TZOFFSETTO:-0500
TZNAME:EST
DTSTART:20261101T060000
END:STANDARD
END:VTIMEZONE
BEGIN:VEVENT
DTSTART;TZID=America/New_York:20250608T120000
DTEND;TZID=America/New_York:20250608T120000
DTSTAMP:20260422T064733
CREATED:20250606T145453Z
LAST-MODIFIED:20251023T084157Z
UID:10000895-1749384000-1749384000@explorerocklandny.com
SUMMARY:West Nyack Greek Festival
DESCRIPTION:Don’t miss the West Nyack Greek Festival.  June 5-8\, 2025.  Saints Constantine & Helen Greek Orthodox Church.  Celebrate Greek culture with live music\, dancing\, homemade food\, rides\, games\, and vendors.  FREE parking and admission!  Fun for the whole family!  CLICK HERE for details.
URL:https://explorerocklandny.com/event/west-nyack-greek-festival/2025-06-08/
LOCATION:Saints Constantine & Helen Greek Orthodox Church\, 1 Marycrest Road\, West Nyack\, NY\, 10994
CATEGORIES:Tourism
ATTACH;FMTTYPE=image/png:https://explorerocklandny.com/wp-content/uploads/2025/06/greek-fest-flyer.png
END:VEVENT
BEGIN:VEVENT
DTSTART;TZID=America/New_York:20250607T120000
DTEND;TZID=America/New_York:20250607T120000
DTSTAMP:20260422T064733
CREATED:20250606T145453Z
LAST-MODIFIED:20251023T084157Z
UID:10000894-1749297600-1749297600@explorerocklandny.com
SUMMARY:West Nyack Greek Festival
DESCRIPTION:Don’t miss the West Nyack Greek Festival.  June 5-8\, 2025.  Saints Constantine & Helen Greek Orthodox Church.  Celebrate Greek culture with live music\, dancing\, homemade food\, rides\, games\, and vendors.  FREE parking and admission!  Fun for the whole family!  CLICK HERE for details.
URL:https://explorerocklandny.com/event/west-nyack-greek-festival/2025-06-07/
LOCATION:Saints Constantine & Helen Greek Orthodox Church\, 1 Marycrest Road\, West Nyack\, NY\, 10994
CATEGORIES:Tourism
ATTACH;FMTTYPE=image/png:https://explorerocklandny.com/wp-content/uploads/2025/06/greek-fest-flyer.png
END:VEVENT
BEGIN:VEVENT
DTSTART;TZID=America/New_York:20250606T120000
DTEND;TZID=America/New_York:20250606T120000
DTSTAMP:20260422T064733
CREATED:20250606T145453Z
LAST-MODIFIED:20251023T084157Z
UID:10000893-1749211200-1749211200@explorerocklandny.com
SUMMARY:West Nyack Greek Festival
DESCRIPTION:Don’t miss the West Nyack Greek Festival.  June 5-8\, 2025.  Saints Constantine & Helen Greek Orthodox Church.  Celebrate Greek culture with live music\, dancing\, homemade food\, rides\, games\, and vendors.  FREE parking and admission!  Fun for the whole family!  CLICK HERE for details.
URL:https://explorerocklandny.com/event/west-nyack-greek-festival/2025-06-06/
LOCATION:Saints Constantine & Helen Greek Orthodox Church\, 1 Marycrest Road\, West Nyack\, NY\, 10994
CATEGORIES:Tourism
ATTACH;FMTTYPE=image/png:https://explorerocklandny.com/wp-content/uploads/2025/06/greek-fest-flyer.png
END:VEVENT
END:VCALENDAR