BEGIN:VCALENDAR
VERSION:2.0
PRODID:-//Explore Rockland - ECPv6.15.17//NONSGML v1.0//EN
CALSCALE:GREGORIAN
METHOD:PUBLISH
X-ORIGINAL-URL:https://explorerocklandny.com
X-WR-CALDESC:Events for Explore Rockland
REFRESH-INTERVAL;VALUE=DURATION:PT1H
X-Robots-Tag:noindex
X-PUBLISHED-TTL:PT1H
BEGIN:VTIMEZONE
TZID:America/New_York
BEGIN:DAYLIGHT
TZOFFSETFROM:-0500
TZOFFSETTO:-0400
TZNAME:EDT
DTSTART:20250309T070000
END:DAYLIGHT
BEGIN:STANDARD
TZOFFSETFROM:-0400
TZOFFSETTO:-0500
TZNAME:EST
DTSTART:20251102T060000
END:STANDARD
BEGIN:DAYLIGHT
TZOFFSETFROM:-0500
TZOFFSETTO:-0400
TZNAME:EDT
DTSTART:20260308T070000
END:DAYLIGHT
BEGIN:STANDARD
TZOFFSETFROM:-0400
TZOFFSETTO:-0500
TZNAME:EST
DTSTART:20261101T060000
END:STANDARD
BEGIN:DAYLIGHT
TZOFFSETFROM:-0500
TZOFFSETTO:-0400
TZNAME:EDT
DTSTART:20270314T070000
END:DAYLIGHT
BEGIN:STANDARD
TZOFFSETFROM:-0400
TZOFFSETTO:-0500
TZNAME:EST
DTSTART:20271107T060000
END:STANDARD
END:VTIMEZONE
BEGIN:VEVENT
DTSTART;TZID=America/New_York:20260214T120000
DTEND;TZID=America/New_York:20260214T130000
DTSTAMP:20260422T083332
CREATED:20260205T222117Z
LAST-MODIFIED:20260205T222117Z
UID:10001385-1771070400-1771074000@explorerocklandny.com
SUMMARY:Living History Walking Tour
DESCRIPTION:Don’t miss the “Living History Walking Tour\,” on Saturday\, February 14\, 2026. 12PM-1PM at the Rockland Cemetery.  Experience Sparkill’s heritage with live historical reenactors portraying the many pioneers\, artists and immigrants who built our community.  Hear firsthand accounts and stories of triumphs\, tragedies and secrets of some of our most notable (and notorious) residents. FREE event! Perfect for families\, students\, and history buffs! CLICK HERE for details.
URL:https://explorerocklandny.com/event/living-history-walking-tour/
LOCATION:Rockland Cemetery\, 201 Kings Highway\, Sparkill\, NY\, 10976
CATEGORIES:Tourism
ATTACH;FMTTYPE=image/jpeg:https://explorerocklandny.com/wp-content/uploads/2026/02/rockcem.jpg
END:VEVENT
END:VCALENDAR