BEGIN:VCALENDAR
VERSION:2.0
PRODID:-//Explore Rockland - ECPv6.15.17//NONSGML v1.0//EN
CALSCALE:GREGORIAN
METHOD:PUBLISH
X-WR-CALNAME:Explore Rockland
X-ORIGINAL-URL:https://explorerocklandny.com
X-WR-CALDESC:Events for Explore Rockland
REFRESH-INTERVAL;VALUE=DURATION:PT1H
X-Robots-Tag:noindex
X-PUBLISHED-TTL:PT1H
BEGIN:VTIMEZONE
TZID:America/New_York
BEGIN:DAYLIGHT
TZOFFSETFROM:-0500
TZOFFSETTO:-0400
TZNAME:EDT
DTSTART:20240310T070000
END:DAYLIGHT
BEGIN:STANDARD
TZOFFSETFROM:-0400
TZOFFSETTO:-0500
TZNAME:EST
DTSTART:20241103T060000
END:STANDARD
BEGIN:DAYLIGHT
TZOFFSETFROM:-0500
TZOFFSETTO:-0400
TZNAME:EDT
DTSTART:20250309T070000
END:DAYLIGHT
BEGIN:STANDARD
TZOFFSETFROM:-0400
TZOFFSETTO:-0500
TZNAME:EST
DTSTART:20251102T060000
END:STANDARD
BEGIN:DAYLIGHT
TZOFFSETFROM:-0500
TZOFFSETTO:-0400
TZNAME:EDT
DTSTART:20260308T070000
END:DAYLIGHT
BEGIN:STANDARD
TZOFFSETFROM:-0400
TZOFFSETTO:-0500
TZNAME:EST
DTSTART:20261101T060000
END:STANDARD
END:VTIMEZONE
BEGIN:VEVENT
DTSTART;TZID=America/New_York:20250803T160000
DTEND;TZID=America/New_York:20250803T160000
DTSTAMP:20260421T085923
CREATED:20250717T181635Z
LAST-MODIFIED:20251023T084720Z
UID:10000962-1754236800-1754236800@explorerocklandny.com
SUMMARY:8th Annual BridgeMusik Jazz & Classical Summer Music Festival
DESCRIPTION:Join us for BridgeMusik’s 8th Annual Jazz & Classical Summer Music Festival! August 3-17\, 2025. Don’t miss this annual event featuring a dynamic series of free concerts and events taking place in Tappan\, Blauvelt\, Nyack & Valley Cottage. This year’s festival continues BridgeMusik’s mission to bring together world-class artists and the next generation of musicians in both jazz and classical traditions. The 2025 Festival includes Jazz Week (August 3–10) and Classical Week (August 11–17)\, with community concerts\, student recitals\, and faculty showcases that celebrate BridgeMusik’s collaborative and inclusive spirit.   CLICK HERE for a complete schedule of events including times and locations. \n 
URL:https://explorerocklandny.com/event/8th-annual-bridgemusik-jazz-classical-summer-music-festival/
LOCATION:Olsh Auditorium\, 120 Kings Highway\, Tappan\, NY\, 10983
CATEGORIES:Tourism
ATTACH;FMTTYPE=image/jpeg:https://explorerocklandny.com/wp-content/uploads/2025/07/summer-festival.jpg
ORGANIZER;CN="BridgeMusik":MAILTO:info@bridgemusik.com
END:VEVENT
END:VCALENDAR