BEGIN:VCALENDAR
VERSION:2.0
PRODID:-//Explore Rockland - ECPv6.15.17//NONSGML v1.0//EN
CALSCALE:GREGORIAN
METHOD:PUBLISH
X-WR-CALNAME:Explore Rockland
X-ORIGINAL-URL:https://explorerocklandny.com
X-WR-CALDESC:Events for Explore Rockland
REFRESH-INTERVAL;VALUE=DURATION:PT1H
X-Robots-Tag:noindex
X-PUBLISHED-TTL:PT1H
BEGIN:VTIMEZONE
TZID:America/New_York
BEGIN:DAYLIGHT
TZOFFSETFROM:-0500
TZOFFSETTO:-0400
TZNAME:EDT
DTSTART:20240310T070000
END:DAYLIGHT
BEGIN:STANDARD
TZOFFSETFROM:-0400
TZOFFSETTO:-0500
TZNAME:EST
DTSTART:20241103T060000
END:STANDARD
BEGIN:DAYLIGHT
TZOFFSETFROM:-0500
TZOFFSETTO:-0400
TZNAME:EDT
DTSTART:20250309T070000
END:DAYLIGHT
BEGIN:STANDARD
TZOFFSETFROM:-0400
TZOFFSETTO:-0500
TZNAME:EST
DTSTART:20251102T060000
END:STANDARD
BEGIN:DAYLIGHT
TZOFFSETFROM:-0500
TZOFFSETTO:-0400
TZNAME:EDT
DTSTART:20260308T070000
END:DAYLIGHT
BEGIN:STANDARD
TZOFFSETFROM:-0400
TZOFFSETTO:-0500
TZNAME:EST
DTSTART:20261101T060000
END:STANDARD
BEGIN:DAYLIGHT
TZOFFSETFROM:-0500
TZOFFSETTO:-0400
TZNAME:EDT
DTSTART:20270314T070000
END:DAYLIGHT
BEGIN:STANDARD
TZOFFSETFROM:-0400
TZOFFSETTO:-0500
TZNAME:EST
DTSTART:20271107T060000
END:STANDARD
END:VTIMEZONE
BEGIN:VEVENT
DTSTART;TZID=America/New_York:20260411T084500
DTEND;TZID=America/New_York:20260411T153000
DTSTAMP:20260425T072841
CREATED:20260306T203321Z
LAST-MODIFIED:20260306T203321Z
UID:10001511-1775897100-1775921400@explorerocklandny.com
SUMMARY:THE SPY AND THE TRAITOR: The André - Arnold Affair Day Trip
DESCRIPTION:The Historical Society of Rockland County presents\, THE SPY AND THE TRAITOR: The André – Arnold Affair Day Trip. Saturday\, April 11\, 2026. 8:45AM-3:30PM. (Additional dates scheduled from May-October)! Step into one of the most dramatic episodes of the American Revolution.  Travel by motor coach and on foot as expert guides lead you through historic sites tied to espionage\, intrigue\, and betrayal – including the meeting site\, Andrés trial location\, and the place of his execution.  Along the way\, you’ll gain vivid insight into the people\, places and decisions that shaped the nation’s future. \nHighlights include:\n \n\nGuided tour of the Orangetown Museum’s exhibition: “A Spy in Our Midst.”\nGuided walk in Dutchtown\, near the André-Arnold meeting site\nExploration of key Revolutionary War landmarks in Tappan including the DeWint House\nLuncheon at the legendary Old `76 House\n\nBe a part of history!  Walk where it happened!  Tickets on sale!  Cost: $99 (HSRC Members); $119 (Non-Members). Pre-paid reservations required.  CLICK HERE for more information.
URL:https://explorerocklandny.com/event/the-spy-and-the-traitor-the-andre-arnold-affair-day-trip/
LOCATION:The Michael Salyer House\, 213 Blue Hill Road\, Pearl River\, NY\, 10965
CATEGORIES:Tourism
ATTACH;FMTTYPE=image/jpeg:https://explorerocklandny.com/wp-content/uploads/2026/03/Arnold-Andre-Affair.jpg
ORGANIZER;CN="Historical Society of Rockland County":MAILTO:info@rocklandhistory.org
END:VEVENT
BEGIN:VEVENT
DTSTART;TZID=America/New_York:20251221T170000
DTEND;TZID=America/New_York:20251221T181500
DTSTAMP:20260425T072841
CREATED:20251118T162147Z
LAST-MODIFIED:20251118T162147Z
UID:10001242-1766336400-1766340900@explorerocklandny.com
SUMMARY:Holiday Candlelight Tours of the Jacob Blauvelt House
DESCRIPTION:Join us for the annual Holiday Candlelight Tours of the Jacob Blauvelt House. Sunday\, Dec. 14\, Saturday\, Dec. 20 & Sunday\, Dec. 21.  Spend an enchanting evening at the historic Jacob Blauvelt House experiencing Dutch American holiday traditions with music and seasonal refreshments.  Presented by the Historical Society of Rockland County.  Tickets on sale! CLICK HERE for more information. \nTours Schedule: \nDecember 14 – 5PM-6:15PM & 6:30PM-7:45PM\nDecember 20 – 5PM-6:15PM & 6:30PM-7:45PM\nDecember 21 – 5PM-6:15PM & 6:30PM-7:15PM
URL:https://explorerocklandny.com/event/holiday-candlelight-tours-of-the-jacob-blauvelt-house-3/
LOCATION:The Jacob Blauvelt House\, 20 Zukor Road\, New City\, NY\, 10956
CATEGORIES:Tourism
ATTACH;FMTTYPE=image/jpeg:https://explorerocklandny.com/wp-content/uploads/2025/11/2025-Candlelight-Image-with-Tourism-Logo-scaled.jpg
ORGANIZER;CN="Historical Society of Rockland County":MAILTO:info@rocklandhistory.org
END:VEVENT
BEGIN:VEVENT
DTSTART;TZID=America/New_York:20251220T170000
DTEND;TZID=America/New_York:20251220T181500
DTSTAMP:20260425T072841
CREATED:20251118T162112Z
LAST-MODIFIED:20251118T162112Z
UID:10001241-1766250000-1766254500@explorerocklandny.com
SUMMARY:Holiday Candlelight Tours of the Jacob Blauvelt House
DESCRIPTION:Join us for the annual Holiday Candlelight Tours of the Jacob Blauvelt House. Sunday\, Dec. 14\, Saturday\, Dec. 20 & Sunday\, Dec. 21.  Spend an enchanting evening at the historic Jacob Blauvelt House experiencing Dutch American holiday traditions with music and seasonal refreshments.  Presented by the Historical Society of Rockland County.  Tickets on sale! CLICK HERE for more information. \nTours Schedule: \nDecember 14 – 5PM-6:15PM & 6:30PM-7:45PM\nDecember 20 – 5PM-6:15PM & 6:30PM-7:45PM\nDecember 21 – 5PM-6:15PM & 6:30PM-7:15PM
URL:https://explorerocklandny.com/event/holiday-candlelight-tours-of-the-jacob-blauvelt-house-2/
LOCATION:The Jacob Blauvelt House\, 20 Zukor Road\, New City\, NY\, 10956
CATEGORIES:Tourism
ATTACH;FMTTYPE=image/jpeg:https://explorerocklandny.com/wp-content/uploads/2025/11/2025-Candlelight-Image-with-Tourism-Logo-scaled.jpg
ORGANIZER;CN="Historical Society of Rockland County":MAILTO:info@rocklandhistory.org
END:VEVENT
BEGIN:VEVENT
DTSTART;TZID=America/New_York:20251214T170000
DTEND;TZID=America/New_York:20251214T181500
DTSTAMP:20260425T072841
CREATED:20251118T162039Z
LAST-MODIFIED:20251118T162039Z
UID:10001240-1765731600-1765736100@explorerocklandny.com
SUMMARY:Holiday Candlelight Tours of the Jacob Blauvelt House
DESCRIPTION:Join us for the annual Holiday Candlelight Tours of the Jacob Blauvelt House. Sunday\, Dec. 14\, Saturday\, Dec. 20 & Sunday\, Dec. 21.  Spend an enchanting evening at the historic Jacob Blauvelt House experiencing Dutch American holiday traditions with music and seasonal refreshments.  Presented by the Historical Society of Rockland County.  Tickets on sale! CLICK HERE for more information. \nTours Schedule: \nDecember 14 – 5PM-6:15PM & 6:30PM-7:45PM\nDecember 20 – 5PM-6:15PM & 6:30PM-7:45PM\nDecember 21 – 5PM-6:15PM & 6:30PM-7:15PM
URL:https://explorerocklandny.com/event/holiday-candlelight-tours-of-the-jacob-blauvelt-house/
LOCATION:The Jacob Blauvelt House\, 20 Zukor Road\, New City\, NY\, 10956
CATEGORIES:Tourism
ATTACH;FMTTYPE=image/jpeg:https://explorerocklandny.com/wp-content/uploads/2025/11/2025-Candlelight-Image-with-Tourism-Logo-scaled.jpg
ORGANIZER;CN="Historical Society of Rockland County":MAILTO:info@rocklandhistory.org
END:VEVENT
BEGIN:VEVENT
DTSTART;TZID=America/New_York:20251207T103000
DTEND;TZID=America/New_York:20251207T160000
DTSTAMP:20260425T072841
CREATED:20251118T163437Z
LAST-MODIFIED:20251118T164510Z
UID:10001243-1765103400-1765123200@explorerocklandny.com
SUMMARY:St. Nicholas Day Family Program
DESCRIPTION:Don’t miss St. Nicholas Day at the Jacob Blauvelt House.  Sunday\, Dec. 7 2025. 10:30AM\, 12PM\, 1:30PM & 3PM.  Visit the Historical Society of Rockland County for an unforgettable experience of wonder and fun! We’re opening our 1832 Jacob Blauvelt House to welcome children of all ages to celebrate St. Nicholas\, as we’ve done since 1961. Each child receives a special treat in his or her shoe from St. Nicholas and everyone can visit with St. Nicholas and his horse! Enjoy refreshments and visit our 49th Annual Holiday Exhibition. Reserve your spot today!  Tickets on sale!  CLICK HERE for more information!
URL:https://explorerocklandny.com/event/st-nicholas-day-family-program/
LOCATION:The Jacob Blauvelt House\, 20 Zukor Road\, New City\, NY\, 10956
CATEGORIES:Tourism
ATTACH;FMTTYPE=image/jpeg:https://explorerocklandny.com/wp-content/uploads/2025/11/st.-nicholas-day-2025.jpg
ORGANIZER;CN="Historical Society of Rockland County":MAILTO:info@rocklandhistory.org
END:VEVENT
BEGIN:VEVENT
DTSTART;TZID=America/New_York:20251004T100000
DTEND;TZID=America/New_York:20251004T160000
DTSTAMP:20260425T072841
CREATED:20250829T160542Z
LAST-MODIFIED:20251023T084926Z
UID:10001103-1759572000-1759593600@explorerocklandny.com
SUMMARY:Historic Homes & Landmarks Tour: Tappan
DESCRIPTION:Join us for the 2025 Historic Homes Landmarks Tour: Tappan. Saturday\, Oct. 4\, 2025. 10AM-4PM. Celebrating the 60th Anniversary of the Tappan Historic Area! The historic house tour of Tappan will be a self-guided walking tour on which a number of houses and other significant buildings within the Tappan Historic Area will be open to the public. The tour both promotes this Orangetown community and its historic importance to Rockland County and announces events celebrating the 250th anniversary of the signing of the Declaration of Independence in 2026. Hosted by the Historical Society of Rockland County (HSRC) in partnership with the Tappan Historical Society.  Reservations required!  Tickets on sale!  CLICK HERE for details.
URL:https://explorerocklandny.com/event/historic-homes-landmarks-tour-tappan/
LOCATION:Tappan\, Main Street\, Tappan\, New York\, 10983
CATEGORIES:Tourism
ATTACH;FMTTYPE=image/png:https://explorerocklandny.com/wp-content/uploads/2025/08/Main-St-Painting-Tappan.png
ORGANIZER;CN="Historical Society of Rockland County":MAILTO:info@rocklandhistory.org
END:VEVENT
END:VCALENDAR