BEGIN:VCALENDAR
VERSION:2.0
PRODID:-//Explore Rockland - ECPv6.15.17//NONSGML v1.0//EN
CALSCALE:GREGORIAN
METHOD:PUBLISH
X-ORIGINAL-URL:https://explorerocklandny.com
X-WR-CALDESC:Events for Explore Rockland
REFRESH-INTERVAL;VALUE=DURATION:PT1H
X-Robots-Tag:noindex
X-PUBLISHED-TTL:PT1H
BEGIN:VTIMEZONE
TZID:America/New_York
BEGIN:DAYLIGHT
TZOFFSETFROM:-0500
TZOFFSETTO:-0400
TZNAME:EDT
DTSTART:20240310T070000
END:DAYLIGHT
BEGIN:STANDARD
TZOFFSETFROM:-0400
TZOFFSETTO:-0500
TZNAME:EST
DTSTART:20241103T060000
END:STANDARD
BEGIN:DAYLIGHT
TZOFFSETFROM:-0500
TZOFFSETTO:-0400
TZNAME:EDT
DTSTART:20250309T070000
END:DAYLIGHT
BEGIN:STANDARD
TZOFFSETFROM:-0400
TZOFFSETTO:-0500
TZNAME:EST
DTSTART:20251102T060000
END:STANDARD
BEGIN:DAYLIGHT
TZOFFSETFROM:-0500
TZOFFSETTO:-0400
TZNAME:EDT
DTSTART:20260308T070000
END:DAYLIGHT
BEGIN:STANDARD
TZOFFSETFROM:-0400
TZOFFSETTO:-0500
TZNAME:EST
DTSTART:20261101T060000
END:STANDARD
END:VTIMEZONE
BEGIN:VEVENT
DTSTART;TZID=America/New_York:20250727T150000
DTEND;TZID=America/New_York:20250727T150000
DTSTAMP:20260422T065014
CREATED:20250604T174703Z
LAST-MODIFIED:20251023T084719Z
UID:10000854-1753628400-1753628400@explorerocklandny.com
SUMMARY:African Extravaganza Dance & Music
DESCRIPTION:Chiku Awali African Dance\, Arts & Culture\, Inc. presents The 22nd Annual African Extravaganza Dance & Music Performance – Sunday\, July 27\, 2025. 3PM at Rockland Community College.  Celebrating African dance and culture.  Join us for an afternoon of music\, dancing and drumming.  Special guest performance by Bambara Drum and Dance Ensemble!  Tickets on sale!  CLICK HERE for details.
URL:https://explorerocklandny.com/event/african-extravaganza-dance-music/
LOCATION:Rockland Community College Cultural Arts Theater\, 145 College Road\, Suffern\, NY\, 10901
CATEGORIES:Tourism
ATTACH;FMTTYPE=image/jpeg:https://explorerocklandny.com/wp-content/uploads/2025/06/Extravaganza-flyer-4.0-2025.jpg
ORGANIZER;CN="Chiku Awali African Dance%2C Arts & Culture":MAILTO:info@chikuawali.org
END:VEVENT
END:VCALENDAR