BEGIN:VCALENDAR
VERSION:2.0
PRODID:-//Explore Rockland - ECPv6.15.17//NONSGML v1.0//EN
CALSCALE:GREGORIAN
METHOD:PUBLISH
X-WR-CALNAME:Explore Rockland
X-ORIGINAL-URL:https://explorerocklandny.com
X-WR-CALDESC:Events for Explore Rockland
REFRESH-INTERVAL;VALUE=DURATION:PT1H
X-Robots-Tag:noindex
X-PUBLISHED-TTL:PT1H
BEGIN:VTIMEZONE
TZID:America/New_York
BEGIN:DAYLIGHT
TZOFFSETFROM:-0500
TZOFFSETTO:-0400
TZNAME:EDT
DTSTART:20250309T070000
END:DAYLIGHT
BEGIN:STANDARD
TZOFFSETFROM:-0400
TZOFFSETTO:-0500
TZNAME:EST
DTSTART:20251102T060000
END:STANDARD
BEGIN:DAYLIGHT
TZOFFSETFROM:-0500
TZOFFSETTO:-0400
TZNAME:EDT
DTSTART:20260308T070000
END:DAYLIGHT
BEGIN:STANDARD
TZOFFSETFROM:-0400
TZOFFSETTO:-0500
TZNAME:EST
DTSTART:20261101T060000
END:STANDARD
BEGIN:DAYLIGHT
TZOFFSETFROM:-0500
TZOFFSETTO:-0400
TZNAME:EDT
DTSTART:20270314T070000
END:DAYLIGHT
BEGIN:STANDARD
TZOFFSETFROM:-0400
TZOFFSETTO:-0500
TZNAME:EST
DTSTART:20271107T060000
END:STANDARD
END:VTIMEZONE
BEGIN:VEVENT
DTSTART;VALUE=DATE:20260422
DTEND;VALUE=DATE:20260423
DTSTAMP:20260422T234718
CREATED:20260422T164159Z
LAST-MODIFIED:20260422T164222Z
UID:10001702-1776816000-1776902399@explorerocklandny.com
SUMMARY:The Remarkable Landscape of Design of Mary Mowbray-Clarke
DESCRIPTION:Don’t miss “The Landscape Design of Mary Mowbray-Clarke.” The Haverstraw Brick Museum’s latest exhibition highlights the life of Rockland’s very own Mary Mowbray-Clarke. A pioneer in every sense of the word\, Mary’s story and contributions to the fields of perseveration\, art education\, and landscape architecture continue to have a lasting impact today. As the mother of the Modern Arts Movement\, her career culminated in her magnum opus: The Dutch Gardens. This exhibition would not be possible without the generous donations of the Williamson Family\, the Estate of Janet Newman\, and a loan of materials from Justin Duerr. CLICK HERE for more information. \nMuseum Hours:\nSaturday & Sunday: 1PM-4PM.\nBy Appointment: Tuesday-Thursday:  11AM-4PM.
URL:https://explorerocklandny.com/event/the-remarkable-landscape-of-design-of-mary-mowbray-clarke/2026-04-22/
CATEGORIES:Tourism
ATTACH;FMTTYPE=image/png:https://explorerocklandny.com/wp-content/uploads/2026/04/mmc.png
END:VEVENT
BEGIN:VEVENT
DTSTART;VALUE=DATE:20260527
DTEND;VALUE=DATE:20260528
DTSTAMP:20260422T234718
CREATED:20260422T164159Z
LAST-MODIFIED:20260422T164222Z
UID:10001703-1779840000-1779926399@explorerocklandny.com
SUMMARY:The Remarkable Landscape of Design of Mary Mowbray-Clarke
DESCRIPTION:Don’t miss “The Landscape Design of Mary Mowbray-Clarke.” The Haverstraw Brick Museum’s latest exhibition highlights the life of Rockland’s very own Mary Mowbray-Clarke. A pioneer in every sense of the word\, Mary’s story and contributions to the fields of perseveration\, art education\, and landscape architecture continue to have a lasting impact today. As the mother of the Modern Arts Movement\, her career culminated in her magnum opus: The Dutch Gardens. This exhibition would not be possible without the generous donations of the Williamson Family\, the Estate of Janet Newman\, and a loan of materials from Justin Duerr. CLICK HERE for more information. \nMuseum Hours:\nSaturday & Sunday: 1PM-4PM.\nBy Appointment: Tuesday-Thursday:  11AM-4PM.
URL:https://explorerocklandny.com/event/the-remarkable-landscape-of-design-of-mary-mowbray-clarke/2026-05-27/
CATEGORIES:Tourism
ATTACH;FMTTYPE=image/png:https://explorerocklandny.com/wp-content/uploads/2026/04/mmc.png
END:VEVENT
BEGIN:VEVENT
DTSTART;VALUE=DATE:20260624
DTEND;VALUE=DATE:20260625
DTSTAMP:20260422T234718
CREATED:20260422T164159Z
LAST-MODIFIED:20260422T164222Z
UID:10001704-1782259200-1782345599@explorerocklandny.com
SUMMARY:The Remarkable Landscape of Design of Mary Mowbray-Clarke
DESCRIPTION:Don’t miss “The Landscape Design of Mary Mowbray-Clarke.” The Haverstraw Brick Museum’s latest exhibition highlights the life of Rockland’s very own Mary Mowbray-Clarke. A pioneer in every sense of the word\, Mary’s story and contributions to the fields of perseveration\, art education\, and landscape architecture continue to have a lasting impact today. As the mother of the Modern Arts Movement\, her career culminated in her magnum opus: The Dutch Gardens. This exhibition would not be possible without the generous donations of the Williamson Family\, the Estate of Janet Newman\, and a loan of materials from Justin Duerr. CLICK HERE for more information. \nMuseum Hours:\nSaturday & Sunday: 1PM-4PM.\nBy Appointment: Tuesday-Thursday:  11AM-4PM.
URL:https://explorerocklandny.com/event/the-remarkable-landscape-of-design-of-mary-mowbray-clarke/2026-06-24/
CATEGORIES:Tourism
ATTACH;FMTTYPE=image/png:https://explorerocklandny.com/wp-content/uploads/2026/04/mmc.png
END:VEVENT
BEGIN:VEVENT
DTSTART;VALUE=DATE:20260722
DTEND;VALUE=DATE:20260723
DTSTAMP:20260422T234718
CREATED:20260422T164159Z
LAST-MODIFIED:20260422T164222Z
UID:10001705-1784678400-1784764799@explorerocklandny.com
SUMMARY:The Remarkable Landscape of Design of Mary Mowbray-Clarke
DESCRIPTION:Don’t miss “The Landscape Design of Mary Mowbray-Clarke.” The Haverstraw Brick Museum’s latest exhibition highlights the life of Rockland’s very own Mary Mowbray-Clarke. A pioneer in every sense of the word\, Mary’s story and contributions to the fields of perseveration\, art education\, and landscape architecture continue to have a lasting impact today. As the mother of the Modern Arts Movement\, her career culminated in her magnum opus: The Dutch Gardens. This exhibition would not be possible without the generous donations of the Williamson Family\, the Estate of Janet Newman\, and a loan of materials from Justin Duerr. CLICK HERE for more information. \nMuseum Hours:\nSaturday & Sunday: 1PM-4PM.\nBy Appointment: Tuesday-Thursday:  11AM-4PM.
URL:https://explorerocklandny.com/event/the-remarkable-landscape-of-design-of-mary-mowbray-clarke/2026-07-22/
CATEGORIES:Tourism
ATTACH;FMTTYPE=image/png:https://explorerocklandny.com/wp-content/uploads/2026/04/mmc.png
END:VEVENT
BEGIN:VEVENT
DTSTART;VALUE=DATE:20260826
DTEND;VALUE=DATE:20260827
DTSTAMP:20260422T234718
CREATED:20260422T164159Z
LAST-MODIFIED:20260422T164222Z
UID:10001706-1787702400-1787788799@explorerocklandny.com
SUMMARY:The Remarkable Landscape of Design of Mary Mowbray-Clarke
DESCRIPTION:Don’t miss “The Landscape Design of Mary Mowbray-Clarke.” The Haverstraw Brick Museum’s latest exhibition highlights the life of Rockland’s very own Mary Mowbray-Clarke. A pioneer in every sense of the word\, Mary’s story and contributions to the fields of perseveration\, art education\, and landscape architecture continue to have a lasting impact today. As the mother of the Modern Arts Movement\, her career culminated in her magnum opus: The Dutch Gardens. This exhibition would not be possible without the generous donations of the Williamson Family\, the Estate of Janet Newman\, and a loan of materials from Justin Duerr. CLICK HERE for more information. \nMuseum Hours:\nSaturday & Sunday: 1PM-4PM.\nBy Appointment: Tuesday-Thursday:  11AM-4PM.
URL:https://explorerocklandny.com/event/the-remarkable-landscape-of-design-of-mary-mowbray-clarke/2026-08-26/
CATEGORIES:Tourism
ATTACH;FMTTYPE=image/png:https://explorerocklandny.com/wp-content/uploads/2026/04/mmc.png
END:VEVENT
BEGIN:VEVENT
DTSTART;VALUE=DATE:20260923
DTEND;VALUE=DATE:20260924
DTSTAMP:20260422T234718
CREATED:20260422T164159Z
LAST-MODIFIED:20260422T164222Z
UID:10001707-1790121600-1790207999@explorerocklandny.com
SUMMARY:The Remarkable Landscape of Design of Mary Mowbray-Clarke
DESCRIPTION:Don’t miss “The Landscape Design of Mary Mowbray-Clarke.” The Haverstraw Brick Museum’s latest exhibition highlights the life of Rockland’s very own Mary Mowbray-Clarke. A pioneer in every sense of the word\, Mary’s story and contributions to the fields of perseveration\, art education\, and landscape architecture continue to have a lasting impact today. As the mother of the Modern Arts Movement\, her career culminated in her magnum opus: The Dutch Gardens. This exhibition would not be possible without the generous donations of the Williamson Family\, the Estate of Janet Newman\, and a loan of materials from Justin Duerr. CLICK HERE for more information. \nMuseum Hours:\nSaturday & Sunday: 1PM-4PM.\nBy Appointment: Tuesday-Thursday:  11AM-4PM.
URL:https://explorerocklandny.com/event/the-remarkable-landscape-of-design-of-mary-mowbray-clarke/2026-09-23/
CATEGORIES:Tourism
ATTACH;FMTTYPE=image/png:https://explorerocklandny.com/wp-content/uploads/2026/04/mmc.png
END:VEVENT
BEGIN:VEVENT
DTSTART;VALUE=DATE:20261028
DTEND;VALUE=DATE:20261029
DTSTAMP:20260422T234718
CREATED:20260422T164159Z
LAST-MODIFIED:20260422T164222Z
UID:10001708-1793145600-1793231999@explorerocklandny.com
SUMMARY:The Remarkable Landscape of Design of Mary Mowbray-Clarke
DESCRIPTION:Don’t miss “The Landscape Design of Mary Mowbray-Clarke.” The Haverstraw Brick Museum’s latest exhibition highlights the life of Rockland’s very own Mary Mowbray-Clarke. A pioneer in every sense of the word\, Mary’s story and contributions to the fields of perseveration\, art education\, and landscape architecture continue to have a lasting impact today. As the mother of the Modern Arts Movement\, her career culminated in her magnum opus: The Dutch Gardens. This exhibition would not be possible without the generous donations of the Williamson Family\, the Estate of Janet Newman\, and a loan of materials from Justin Duerr. CLICK HERE for more information. \nMuseum Hours:\nSaturday & Sunday: 1PM-4PM.\nBy Appointment: Tuesday-Thursday:  11AM-4PM.
URL:https://explorerocklandny.com/event/the-remarkable-landscape-of-design-of-mary-mowbray-clarke/2026-10-28/
CATEGORIES:Tourism
ATTACH;FMTTYPE=image/png:https://explorerocklandny.com/wp-content/uploads/2026/04/mmc.png
END:VEVENT
BEGIN:VEVENT
DTSTART;VALUE=DATE:20261125
DTEND;VALUE=DATE:20261126
DTSTAMP:20260422T234718
CREATED:20260422T164159Z
LAST-MODIFIED:20260422T164222Z
UID:10001709-1795564800-1795651199@explorerocklandny.com
SUMMARY:The Remarkable Landscape of Design of Mary Mowbray-Clarke
DESCRIPTION:Don’t miss “The Landscape Design of Mary Mowbray-Clarke.” The Haverstraw Brick Museum’s latest exhibition highlights the life of Rockland’s very own Mary Mowbray-Clarke. A pioneer in every sense of the word\, Mary’s story and contributions to the fields of perseveration\, art education\, and landscape architecture continue to have a lasting impact today. As the mother of the Modern Arts Movement\, her career culminated in her magnum opus: The Dutch Gardens. This exhibition would not be possible without the generous donations of the Williamson Family\, the Estate of Janet Newman\, and a loan of materials from Justin Duerr. CLICK HERE for more information. \nMuseum Hours:\nSaturday & Sunday: 1PM-4PM.\nBy Appointment: Tuesday-Thursday:  11AM-4PM.
URL:https://explorerocklandny.com/event/the-remarkable-landscape-of-design-of-mary-mowbray-clarke/2026-11-25/
CATEGORIES:Tourism
ATTACH;FMTTYPE=image/png:https://explorerocklandny.com/wp-content/uploads/2026/04/mmc.png
END:VEVENT
BEGIN:VEVENT
DTSTART;VALUE=DATE:20261223
DTEND;VALUE=DATE:20261224
DTSTAMP:20260422T234718
CREATED:20260422T164159Z
LAST-MODIFIED:20260422T164222Z
UID:10001710-1797984000-1798070399@explorerocklandny.com
SUMMARY:The Remarkable Landscape of Design of Mary Mowbray-Clarke
DESCRIPTION:Don’t miss “The Landscape Design of Mary Mowbray-Clarke.” The Haverstraw Brick Museum’s latest exhibition highlights the life of Rockland’s very own Mary Mowbray-Clarke. A pioneer in every sense of the word\, Mary’s story and contributions to the fields of perseveration\, art education\, and landscape architecture continue to have a lasting impact today. As the mother of the Modern Arts Movement\, her career culminated in her magnum opus: The Dutch Gardens. This exhibition would not be possible without the generous donations of the Williamson Family\, the Estate of Janet Newman\, and a loan of materials from Justin Duerr. CLICK HERE for more information. \nMuseum Hours:\nSaturday & Sunday: 1PM-4PM.\nBy Appointment: Tuesday-Thursday:  11AM-4PM.
URL:https://explorerocklandny.com/event/the-remarkable-landscape-of-design-of-mary-mowbray-clarke/2026-12-23/
CATEGORIES:Tourism
ATTACH;FMTTYPE=image/png:https://explorerocklandny.com/wp-content/uploads/2026/04/mmc.png
END:VEVENT
END:VCALENDAR