BEGIN:VCALENDAR
VERSION:2.0
PRODID:-//Explore Rockland - ECPv6.15.17//NONSGML v1.0//EN
CALSCALE:GREGORIAN
METHOD:PUBLISH
X-WR-CALNAME:Explore Rockland
X-ORIGINAL-URL:https://explorerocklandny.com
X-WR-CALDESC:Events for Explore Rockland
REFRESH-INTERVAL;VALUE=DURATION:PT1H
X-Robots-Tag:noindex
X-PUBLISHED-TTL:PT1H
BEGIN:VTIMEZONE
TZID:America/New_York
BEGIN:DAYLIGHT
TZOFFSETFROM:-0500
TZOFFSETTO:-0400
TZNAME:EDT
DTSTART:20250309T070000
END:DAYLIGHT
BEGIN:STANDARD
TZOFFSETFROM:-0400
TZOFFSETTO:-0500
TZNAME:EST
DTSTART:20251102T060000
END:STANDARD
BEGIN:DAYLIGHT
TZOFFSETFROM:-0500
TZOFFSETTO:-0400
TZNAME:EDT
DTSTART:20260308T070000
END:DAYLIGHT
BEGIN:STANDARD
TZOFFSETFROM:-0400
TZOFFSETTO:-0500
TZNAME:EST
DTSTART:20261101T060000
END:STANDARD
BEGIN:DAYLIGHT
TZOFFSETFROM:-0500
TZOFFSETTO:-0400
TZNAME:EDT
DTSTART:20270314T070000
END:DAYLIGHT
BEGIN:STANDARD
TZOFFSETFROM:-0400
TZOFFSETTO:-0500
TZNAME:EST
DTSTART:20271107T060000
END:STANDARD
END:VTIMEZONE
BEGIN:VEVENT
DTSTART;TZID=America/New_York:20260424T120000
DTEND;TZID=America/New_York:20260424T170000
DTSTAMP:20260421T041314
CREATED:20260218T184115Z
LAST-MODIFIED:20260218T184115Z
UID:10001449-1777032000-1777050000@explorerocklandny.com
SUMMARY:Caleb Weintraub: Both Sides of the Mirror
DESCRIPTION:Perry Lawson Fine Arts presents “Caleb Weintraub: Both Sides of the Mirror.” A new exhibition on view February 27-April 26\, 2026.  Weintraub’s work explores the tension between stability and disquiet\, treating the domestic space as both a source of comfort and the tension that unsettles it. Within these layered environments\, observation becomes both subject and object; watching and being watched coexist as inseparable conditions. Blending figural and landscape sensibilities into imagined spaces\, Weintraub situates his imagery between memory and myth.  CLICK HERE for details.
URL:https://explorerocklandny.com/event/caleb-weintraub-both-sides-of-the-mirror/2026-04-24/
LOCATION:Perry Lawson Fine Art\, 90 North Broadway\, Nyack\, NY\, 10960\, United States
CATEGORIES:Tourism
ATTACH;FMTTYPE=image/jpeg:https://explorerocklandny.com/wp-content/uploads/2026/02/Caleb-Weintraub-Rare-Birds-2.jpg
END:VEVENT
END:VCALENDAR